BEGIN:VCALENDAR
VERSION:2.0
PRODID:-//Heidarioon - ECPv6.2.9//NONSGML v1.0//EN
CALSCALE:GREGORIAN
METHOD:PUBLISH
X-WR-CALNAME:Heidarioon
X-ORIGINAL-URL:https://heidarioon.com
X-WR-CALDESC:Events for Heidarioon
REFRESH-INTERVAL;VALUE=DURATION:PT1H
X-Robots-Tag:noindex
X-PUBLISHED-TTL:PT1H
BEGIN:VTIMEZONE
TZID:Europe/London
BEGIN:DAYLIGHT
TZOFFSETFROM:+0000
TZOFFSETTO:+0100
TZNAME:BST
DTSTART:20220327T010000
END:DAYLIGHT
BEGIN:STANDARD
TZOFFSETFROM:+0100
TZOFFSETTO:+0000
TZNAME:GMT
DTSTART:20221030T010000
END:STANDARD
END:VTIMEZONE
BEGIN:VEVENT
DTSTART;TZID=Europe/London:20220214T183000
DTEND;TZID=Europe/London:20220214T210000
DTSTAMP:20260422T154548
CREATED:20220218T145006Z
LAST-MODIFIED:20220218T145222Z
UID:155-1644863400-1644872400@heidarioon.com
SUMMARY:Grand birthday anniversary of Amiralmomenin Ali ibn Abitaleb (as).
DESCRIPTION:
URL:https://heidarioon.com/event/grand-birthday-anniversary-of-amiralmomenin-ali-ibn-abitaleb-as/
LOCATION:Manchester Islamic Centre\, 5 Sidney street\, Manchester\, M1 7HB\, United Kingdom
END:VEVENT
BEGIN:VEVENT
DTSTART;TZID=Europe/London:20220214T180000
DTEND;TZID=Europe/London:20220214T200000
DTSTAMP:20260422T154548
CREATED:20220221T121720Z
LAST-MODIFIED:20220221T121912Z
UID:188-1644861600-1644868800@heidarioon.com
SUMMARY:Grand Birthday Anniversary of Amiralmomenin Ali ibn Abitaleb (as)
DESCRIPTION:Special Heidarioon session in association with Manchester Islamic Centre: the Grand Birthday Anniversary of Amiralmomenin Ali ibn Abitaleb (as)\, tonight at 6:30pm. \nJoin us in person or online via: \nhttps://us02web.zoom.us/j/82352045329 \n 
URL:https://heidarioon.com/event/grand-birthday-anniversary-of-amiralmomenin-ali-ibn-abitaleb-as-2/
ATTACH;FMTTYPE=image/jpeg:https://heidarioon.com/wp-content/uploads/2022/02/WhatsApp-Image-2022-02-14-at-12.04.22-PM.jpeg
END:VEVENT
BEGIN:VEVENT
DTSTART;TZID=Europe/London:20220130T160000
DTEND;TZID=Europe/London:20220130T170000
DTSTAMP:20260422T154548
CREATED:20220221T122051Z
LAST-MODIFIED:20220303T230853Z
UID:194-1643558400-1643562000@heidarioon.com
SUMMARY:Men only swimming session
DESCRIPTION:MEN ONLY SWIMMING SESSION – SUNDAY 30th JAN \nWe have hired Wright Robinson College swimming pool (brothers only) \nSunday 30/01/2022\n4:15 – 5:15 pm \n£3 per head. \nAbbey Hey Ln\, Gorton\, Manchester M18 8RL \nFeel free to invite others \nYa Ali
URL:https://heidarioon.com/event/men-only-swimming-session-2/
END:VEVENT
END:VCALENDAR