BEGIN:VCALENDAR
VERSION:2.0
PRODID:-//Heidarioon - ECPv6.2.9//NONSGML v1.0//EN
CALSCALE:GREGORIAN
METHOD:PUBLISH
X-WR-CALNAME:Heidarioon
X-ORIGINAL-URL:https://heidarioon.com
X-WR-CALDESC:Events for Heidarioon
REFRESH-INTERVAL;VALUE=DURATION:PT1H
X-Robots-Tag:noindex
X-PUBLISHED-TTL:PT1H
BEGIN:VTIMEZONE
TZID:Europe/London
BEGIN:DAYLIGHT
TZOFFSETFROM:+0000
TZOFFSETTO:+0100
TZNAME:BST
DTSTART:20220327T010000
END:DAYLIGHT
BEGIN:STANDARD
TZOFFSETFROM:+0100
TZOFFSETTO:+0000
TZNAME:GMT
DTSTART:20221030T010000
END:STANDARD
END:VTIMEZONE
BEGIN:VEVENT
DTSTART;TZID=Europe/London:20220216T183000
DTEND;TZID=Europe/London:20220216T203000
DTSTAMP:20260422T125708
CREATED:20220218T145557Z
LAST-MODIFIED:20220218T145557Z
UID:161-1645036200-1645043400@heidarioon.com
SUMMARY:Special: Shahadat of Lady Zainab (sa)
DESCRIPTION:https://heidarioon.com/wp-content/uploads/2022/02/zainab-sa.mp4
URL:https://heidarioon.com/event/special-shahadat-of-lady-zainab-sa/
LOCATION:Manchester Islamic Centre\, 5 Sidney street\, Manchester\, M1 7HB\, United Kingdom
END:VEVENT
BEGIN:VEVENT
DTSTART;TZID=Europe/London:20220220T161500
DTEND;TZID=Europe/London:20220220T171500
DTSTAMP:20260422T125708
CREATED:20220218T152504Z
LAST-MODIFIED:20220218T152504Z
UID:178-1645373700-1645377300@heidarioon.com
SUMMARY:Men only swimming session
DESCRIPTION:https://heidarioon.com/wp-content/uploads/2022/02/swimming.mp4
URL:https://heidarioon.com/event/men-only-swimming-session/
LOCATION:Wright Robinson College\, Wright Robinson College Swimming Pool\, Abbey Hey Lane\, Gorton\, Manchester\, M18 8RL\, United Kingdom
END:VEVENT
BEGIN:VEVENT
DTSTART;TZID=Europe/London:20220221T183000
DTEND;TZID=Europe/London:20220221T203000
DTSTAMP:20260422T125708
CREATED:20220209T134040Z
LAST-MODIFIED:20220218T145344Z
UID:61-1645468200-1645475400@heidarioon.com
SUMMARY:Monday Weekly Majlis: Shahadat of Lady Zainab (sa)
DESCRIPTION:
URL:https://heidarioon.com/event/monday-weekly-program/
LOCATION:Manchester Islamic Centre\, 5 Sidney street\, Manchester\, M1 7HB\, United Kingdom
END:VEVENT
BEGIN:VEVENT
DTSTART;TZID=Europe/London:20220226T183000
DTEND;TZID=Europe/London:20220226T210000
DTSTAMP:20260422T125708
CREATED:20220218T145917Z
LAST-MODIFIED:20220218T145917Z
UID:164-1645900200-1645909200@heidarioon.com
SUMMARY:Special: Shahadat of Imam Musa Kadhim (as)
DESCRIPTION:
URL:https://heidarioon.com/event/special-shahadat-of-imam-musa-kadhim-as/
LOCATION:Manchester Islamic Centre\, 5 Sidney street\, Manchester\, M1 7HB\, United Kingdom
END:VEVENT
BEGIN:VEVENT
DTSTART;TZID=Europe/London:20220228T183000
DTEND;TZID=Europe/London:20220228T210000
DTSTAMP:20260422T125708
CREATED:20220218T150046Z
LAST-MODIFIED:20220227T180853Z
UID:167-1646073000-1646082000@heidarioon.com
SUMMARY:Special: Celebration of the Mab'ath of our Prophet Muhammad (SA)
DESCRIPTION:
URL:https://heidarioon.com/event/monday-weekly-majlis-shahadat-of-imam-musa-kadhim-as/
LOCATION:Manchester Islamic Centre\, 5 Sidney street\, Manchester\, M1 7HB\, United Kingdom
END:VEVENT
BEGIN:VEVENT
DTSTART;TZID=Europe/London:20220305T183000
DTEND;TZID=Europe/London:20220305T210000
DTSTAMP:20260422T125708
CREATED:20220218T150351Z
LAST-MODIFIED:20220218T150351Z
UID:169-1646505000-1646514000@heidarioon.com
SUMMARY:Special: Wiladat of Imam Hussain (as)
DESCRIPTION:
URL:https://heidarioon.com/event/special-wiladat-of-imam-hussain-as/
LOCATION:Manchester Islamic Centre\, 5 Sidney street\, Manchester\, M1 7HB\, United Kingdom
END:VEVENT
BEGIN:VEVENT
DTSTART;TZID=Europe/London:20220306T183000
DTEND;TZID=Europe/London:20220306T210000
DTSTAMP:20260422T125708
CREATED:20220218T150819Z
LAST-MODIFIED:20220218T150819Z
UID:172-1646591400-1646600400@heidarioon.com
SUMMARY:Special: Wiladat of Hazrat Abbas (as)
DESCRIPTION:
URL:https://heidarioon.com/event/special-wiladat-of-hazrat-abbas-as/
LOCATION:Manchester Islamic Centre\, 5 Sidney street\, Manchester\, M1 7HB\, United Kingdom
END:VEVENT
BEGIN:VEVENT
DTSTART;TZID=Europe/London:20220308T183000
DTEND;TZID=Europe/London:20220308T210000
DTSTAMP:20260422T125708
CREATED:20220218T151043Z
LAST-MODIFIED:20220308T132143Z
UID:175-1646764200-1646773200@heidarioon.com
SUMMARY:Special: Wiladat of Imam Sajjad (as)
DESCRIPTION:
URL:https://heidarioon.com/event/special-wiladat-of-imam-sajjad-as/
LOCATION:Manchester Islamic Centre\, 5 Sidney street\, Manchester\, M1 7HB\, United Kingdom
END:VEVENT
BEGIN:VEVENT
DTSTART;TZID=Europe/London:20220313T161500
DTEND;TZID=Europe/London:20220313T171500
DTSTAMP:20260422T125708
CREATED:20220303T230716Z
LAST-MODIFIED:20220303T230716Z
UID:227-1647188100-1647191700@heidarioon.com
SUMMARY:Men only swimming session
DESCRIPTION:
URL:https://heidarioon.com/event/men-only-swimming-session-3/
LOCATION:Wright Robinson College\, Wright Robinson College Swimming Pool\, Abbey Hey Lane\, Gorton\, Manchester\, M18 8RL\, United Kingdom
END:VEVENT
BEGIN:VEVENT
DTSTART;TZID=Europe/London:20220314T183000
DTEND;TZID=Europe/London:20220314T210000
DTSTAMP:20260422T125708
CREATED:20220303T222942Z
LAST-MODIFIED:20220303T222942Z
UID:219-1647282600-1647291600@heidarioon.com
SUMMARY:Special: Wiladat of Hazrat Ali Akbar (as)
DESCRIPTION:
URL:https://heidarioon.com/event/special-wiladat-of-hazrat-ali-akbar-as/
LOCATION:Manchester Islamic Centre\, 5 Sidney street\, Manchester\, M1 7HB\, United Kingdom
END:VEVENT
BEGIN:VEVENT
DTSTART;TZID=Europe/London:20220317T183000
DTEND;TZID=Europe/London:20220317T210000
DTSTAMP:20260422T125708
CREATED:20220303T223954Z
LAST-MODIFIED:20220303T223954Z
UID:222-1647541800-1647550800@heidarioon.com
SUMMARY:Special: Wiladat of Imam Mahdi (aj)
DESCRIPTION:
URL:https://heidarioon.com/event/special-wiladat-of-imam-mahdi-aj/
LOCATION:Manchester Islamic Centre\, 5 Sidney street\, Manchester\, M1 7HB\, United Kingdom
END:VEVENT
BEGIN:VEVENT
DTSTART;TZID=Europe/London:20220321T183000
DTEND;TZID=Europe/London:20220321T210000
DTSTAMP:20260422T125708
CREATED:20220303T231418Z
LAST-MODIFIED:20220303T231418Z
UID:230-1647887400-1647896400@heidarioon.com
SUMMARY:Monday Weekly Majlis: Wiladat of Imam Mahdi (aj)
DESCRIPTION:
URL:https://heidarioon.com/event/monday-weekly-majlis-wiladat-of-imam-mahdi-aj/
LOCATION:Manchester Islamic Centre\, 5 Sidney street\, Manchester\, M1 7HB\, United Kingdom
END:VEVENT
BEGIN:VEVENT
DTSTART;TZID=Europe/London:20220328T183000
DTEND;TZID=Europe/London:20220328T210000
DTSTAMP:20260422T125708
CREATED:20220303T232332Z
LAST-MODIFIED:20220303T232332Z
UID:233-1648492200-1648501200@heidarioon.com
SUMMARY:Monday Weekly Majlis: Wiladat of Lady Ruqayya (sa)
DESCRIPTION:
URL:https://heidarioon.com/event/monday-weekly-majlis-wiladat-of-lady-ruqayya-sa/
LOCATION:Manchester Islamic Centre\, 5 Sidney street\, Manchester\, M1 7HB\, United Kingdom
END:VEVENT
BEGIN:VEVENT
DTSTART;TZID=Europe/London:20220416T191500
DTEND;TZID=Europe/London:20220416T203000
DTSTAMP:20260422T125708
CREATED:20220415T143045Z
LAST-MODIFIED:20220415T143053Z
UID:260-1650136500-1650141000@heidarioon.com
SUMMARY:Wiladat of Imam Hasan (as)- (Farsi Programme)
DESCRIPTION:
URL:https://heidarioon.com/event/wiladat-of-imam-hasan-as-fars-programme/
LOCATION:Manchester Islamic Centre\, 5 Sidney street\, Manchester\, M1 7HB\, United Kingdom
END:VEVENT
BEGIN:VEVENT
DTSTART;TZID=Europe/London:20220416T230000
DTEND;TZID=Europe/London:20220417T010000
DTSTAMP:20260422T125708
CREATED:20220414T100229Z
LAST-MODIFIED:20220414T100306Z
UID:239-1650150000-1650157200@heidarioon.com
SUMMARY:Majlis Munajaat and Tawassul
DESCRIPTION:The program will consist of: \n– Quran\n– Dua & Munajaat: Br. Mahdi Heshmati\n– Marsiya and Matam (English): Sayyid Zaigham Ali Shan\n– Lecture (Followed by Q&A): Sayyid Muhammad Naqvi
URL:https://heidarioon.com/event/majlis-munajaat-and-tawassul/
LOCATION:Jaffaria Islamic Centre\, 404 Moss Lane East\, Greater\, Rusholme\, Manchester\, Lancashire\, M14 4PX\, United Kingdom
END:VEVENT
BEGIN:VEVENT
DTSTART;TZID=Europe/London:20220417T191500
DTEND;TZID=Europe/London:20220417T203000
DTSTAMP:20260422T125708
CREATED:20220414T102435Z
LAST-MODIFIED:20220415T142948Z
UID:262-1650222900-1650227400@heidarioon.com
SUMMARY:Wiladat of Imam Hasan (as)- (English Programme)
DESCRIPTION:English Lecture: Br. Husain Mohamad
URL:https://heidarioon.com/event/wiladat-of-imam-hasan-as-english-programme/
LOCATION:Manchester Islamic Centre\, 5 Sidney street\, Manchester\, M1 7HB\, United Kingdom
END:VEVENT
BEGIN:VEVENT
DTSTART;TZID=Europe/London:20220420T220000
DTEND;TZID=Europe/London:20220421T003000
DTSTAMP:20260422T125708
CREATED:20220414T103443Z
LAST-MODIFIED:20220414T103443Z
UID:265-1650492000-1650501000@heidarioon.com
SUMMARY:Qadr Nights Majlis
DESCRIPTION:The programme consists of: \n-Dua Joshan Kabir\n-Farsi Lecture: Shaikh Ahmad Vaezi\n-Matam and Amaal of Qadr Night
URL:https://heidarioon.com/event/qadr-nights-majlis/
LOCATION:Manchester Islamic Centre\, 5 Sidney street\, Manchester\, M1 7HB\, United Kingdom
END:VEVENT
BEGIN:VEVENT
DTSTART;TZID=Europe/London:20220422T220000
DTEND;TZID=Europe/London:20220423T003000
DTSTAMP:20260422T125708
CREATED:20220414T103719Z
LAST-MODIFIED:20220414T103719Z
UID:271-1650664800-1650673800@heidarioon.com
SUMMARY:Qadr Night Majlis
DESCRIPTION:The programme consists of: \n-Dua Joshan Kabir\n-Farsi Lecture: Shaikh Ahmad Vaezi\n-Matam and Amaal of Qadr Night
URL:https://heidarioon.com/event/qadr-night-majlis/
LOCATION:Manchester Islamic Centre\, 5 Sidney street\, Manchester\, M1 7HB\, United Kingdom
END:VEVENT
BEGIN:VEVENT
DTSTART;TZID=Europe/London:20220423T230000
DTEND;TZID=Europe/London:20220424T010000
DTSTAMP:20260422T125708
CREATED:20220414T100608Z
LAST-MODIFIED:20220414T100608Z
UID:247-1650754800-1650762000@heidarioon.com
SUMMARY:Majlis Munajaat and Tawassul
DESCRIPTION:The program will consist of: \n– Quran\n– Dua & Munajaat: Br. Mahdi Heshmati\n– Marsiya and Matam (English): Sayyid Zaigham Ali Shan\n– Lecture (Followed by Q&A): Sayyid Muhammad Naqvi
URL:https://heidarioon.com/event/majlis-munajaat-and-tawassul-2/
LOCATION:Jaffaria Islamic Centre\, 404 Moss Lane East\, Greater\, Rusholme\, Manchester\, Lancashire\, M14 4PX\, United Kingdom
END:VEVENT
BEGIN:VEVENT
DTSTART;TZID=Europe/London:20220424T223000
DTEND;TZID=Europe/London:20220425T003000
DTSTAMP:20260422T125708
CREATED:20220414T104003Z
LAST-MODIFIED:20220414T104003Z
UID:273-1650839400-1650846600@heidarioon.com
SUMMARY:Qadr Night Majlis
DESCRIPTION:The programme consists of: \n-Dua Joshan Kabir\n-Farsi Lecture: Shaikh Ahmad Vaezi\n-Matam and Amaal of Qadr Night
URL:https://heidarioon.com/event/qadr-night-majlis-2/
LOCATION:Manchester Islamic Centre\, 5 Sidney street\, Manchester\, M1 7HB\, United Kingdom
END:VEVENT
BEGIN:VEVENT
DTSTART;TZID=Europe/London:20220430T230000
DTEND;TZID=Europe/London:20220501T010000
DTSTAMP:20260422T125708
CREATED:20220414T100908Z
LAST-MODIFIED:20220414T100908Z
UID:250-1651359600-1651366800@heidarioon.com
SUMMARY:Majlis Munajaat and Tawassul
DESCRIPTION:The program will consist of: \n– Quran\n– Dua & Munajaat: Br. Mahdi Heshmati\n– Marsiya and Matam (English): Sayyid Zaigham Ali Shan\n– Lecture (Followed by Q&A): Sayyid Muhammad Naqvi
URL:https://heidarioon.com/event/majlis-munajaat-and-tawassul-3/
LOCATION:Jaffaria Islamic Centre\, 404 Moss Lane East\, Greater\, Rusholme\, Manchester\, Lancashire\, M14 4PX\, United Kingdom
END:VEVENT
END:VCALENDAR